BEGIN:VCALENDAR
VERSION:2.0
PRODID:-//101.0.115.80//NONSGML kigkonsult.se iCalcreator 2.26.9//
CALSCALE:GREGORIAN
METHOD:PUBLISH
X-WR-CALNAME:HCD Martial Art Academy
X-WR-CALDESC:best martial art for self protection and fitness
X-FROM-URL:https://hcdmartialarts.com.au
X-WR-TIMEZONE:Australia/Brisbane
BEGIN:VTIMEZONE
TZID:Australia/Brisbane
X-LIC-LOCATION:Australia/Brisbane
BEGIN:STANDARD
DTSTART:19920301T030000
TZOFFSETFROM:+1100
TZOFFSETTO:+1000
TZNAME:AEST
END:STANDARD
END:VTIMEZONE
BEGIN:VEVENT
UID:ai1ec-3260@hcdmartialarts.com.au
DTSTAMP:20210301T031703Z
CATEGORIES;LANGUAGE=en-AU:Adult\,Kids
CONTACT:Shihan David Hinds\; 0447514505\; info@hcdmartialarts.com.au\; http
 s://www.hcdmartialarts.com.au
DESCRIPTION:
DTSTART;TZID=Australia/Brisbane:20200709T173000
DTEND;TZID=Australia/Brisbane:20200709T182000
EXDATE;TZID=Australia/Brisbane:20191220T173000
EXDATE;TZID=Australia/Brisbane:20191221T173000
EXDATE;TZID=Australia/Brisbane:20191222T173000
EXDATE;TZID=Australia/Brisbane:20191223T173000
EXDATE;TZID=Australia/Brisbane:20191224T173000
EXDATE;TZID=Australia/Brisbane:20191225T173000
EXDATE;TZID=Australia/Brisbane:20191226T173000
EXDATE;TZID=Australia/Brisbane:20191227T173000
EXDATE;TZID=Australia/Brisbane:20191228T173000
EXDATE;TZID=Australia/Brisbane:20191229T173000
EXDATE;TZID=Australia/Brisbane:20191230T173000
EXDATE;TZID=Australia/Brisbane:20191231T173000
EXDATE;TZID=Australia/Brisbane:20200101T173000
EXDATE;TZID=Australia/Brisbane:20200102T173000
EXDATE;TZID=Australia/Brisbane:20200103T173000
EXDATE;TZID=Australia/Brisbane:20200104T173000
EXDATE;TZID=Australia/Brisbane:20200105T173000
GEO:-27.836249;+153.317374
LOCATION:Hombu @ 71 Ruth Terrace\, Oxenford QLD 4210\, Australia
RRULE:FREQ=WEEKLY
SEQUENCE:0
SUMMARY:Combined General Session
URL:https://hcdmartialarts.com.au/event/thu-combined-session/
X-COST-TYPE:free
X-ALT-DESC;FMTTYPE=text/html:<!DOCTYPE HTML PUBLIC '-//W3C//DTD HTML 3.2//E
 N'>\\n<HTML>\\n<HEAD>\\n<TITLE></TITLE>\\n</HEAD>\\n<BODY><div id='et-boc'
  class='et-boc'>\n			\n		<div class='et-l et-l--post'>\n			<div class='et_builder_
 inner_content et_pb_gutters3'>\n		\n		</div><!-- .et_builder_inner_content -->
 \n	</div><!-- .et-l -->\n	\n			\n		</div><!-- #et-boc -->\n		</BODY></HTML>
END:VEVENT
END:VCALENDAR
